BEGIN:VCALENDAR
PRODID:-//Microsoft Corporation//Outlook 12.0 MIMEDIR//EN
VERSION:2.0
CALSCALE:GREGORIAN
BEGIN:VEVENT
UID: f80d819c-0f8a-49ab-9060-2eb55e23d607
SUMMARY:Maakondlik näitemängupäev algklassidele
DTSTAMP:20240412
DTSTART:20240412
DTEND:20240413
DURATION:P1D
LOCATION:Hariduse Kool
DESCRIPTION: <p><strong>Link: </strong>https://aste.edu.ee/et/sundmuste-kalender/maakondlik-naitemangupaev-algklassidele</p><p><strong>Hind: </strong></p>
STATUS:CONFIRMED
SEQUENCE:3
X-ALT-DESC;FMTTYPE=text/html:<p><strong>Link: </strong>https://aste.edu.ee/et/sundmuste-kalender/maakondlik-naitemangupaev-algklassidele</p><p><strong>Hind: </strong></p>
X-MICROSOFT-CDO-BUSYSTATUS:OOF
X-MICROSOFT-CDO-IMPORTANCE:1
X-MICROSOFT-DISALLOW-COUNTER:FALSE
X-MS-OLK-ALLOWEXTERNCHECK:TRUE
X-MS-OLK-CONFTYPE:0
X-MICROSOFT-CDO-ALLDAYEVENT:1
X-MICROSOFT-MSNCALENDAR-ALLDAYEVENT:1
END:VEVENT
END:VCALENDAR